BEGIN:VCALENDAR
VERSION:2.0
PRODID:-//ChamberMaster//Event Calendar 2.0//EN
METHOD:PUBLISH
X-PUBLISHED-TTL:P3D
REFRESH-INTERVAL:P3D
CALSCALE:GREGORIAN
BEGIN:VEVENT
DTSTART;VALUE=DATE:20160224
DTEND;VALUE=DATE:20160225
TRANSP:TRANSPARENT
X-MICROSOFT-CDO-ALLDAYEVENT:TRUE
SUMMARY:Business Day in Madison
DESCRIPTION:Business day in Madison. There is a full agenda for this busy Wednesday in Madison. All in attendance at this time is Larry Kudlow ( Host of CNBC's Primetime Kudlow & Company) Stephen Hayes (Fox Nes Contributor & Columnist for the Weekly Standard) Ken Gronbach (Demographer & Futurist) Governor Scott Walker and Senator Ron Johnson. There is a Welcome Reception at the Madison club from 5 - 7pm. Starting  promptly at 7:30am Registration opens\, partner meetings (by invitation only) and VIP Breakfast (Sponsors Only).\n\n9:00am~ Welcome\n\n9:15am~Ken Gronbach. President of KGC Direct\, LLC and an internationally respected demographer.\n\n10:15am~ Morning Break\n\n10:30am~ Sen. Ron Johnson\n\nNoon~ Lunch\n\n12:15pm~ Larry Kudlow\n\n1:30pm~ Stephen Hayes\n\n2:15pm~ Legislative Visits/Afternoon Meetings (by invitation only)\n\n3:00pm~ Gov. Scott Walker
X-ALT-DESC;FMTTYPE=text/html:Business day in Madison. There is a full agenda for this busy Wednesday in Madison. All in attendance at this time is Larry Kudlow ( Host of CNBC&#39\;s Primetime Kudlow &amp\; Company) Stephen Hayes (Fox Nes Contributor &amp\; Columnist for the Weekly Standard) Ken Gronbach (Demographer &amp\; Futurist) Governor Scott Walker and Senator Ron Johnson. There is a Welcome Reception at the Madison club from 5 - 7pm. Starting&nbsp\; promptly at 7:30am Registration opens\, partner meetings (by invitation only) and VIP Breakfast (Sponsors Only).<br />\n9:00am~ Welcome<br />\n9:15am~Ken Gronbach. President of KGC Direct\, LLC and an internationally respected demographer.<br />\n10:15am~ Morning Break<br />\n10:30am~ Sen. Ron Johnson<br />\nNoon~ Lunch<br />\n12:15pm~ Larry Kudlow<br />\n1:30pm~ Stephen Hayes<br />\n2:15pm~ Legislative Visits/Afternoon Meetings (by invitation only)<br />\n3:00pm~ Gov. Scott Walker<br />\n<br />\n<br />\n&nbsp\;
LOCATION:Monona Terrace Community & Convention Center Madison\, WI
UID:e.2059.1888
SEQUENCE:3
DTSTAMP:20260424T080400Z
URL:https://business.elkhornchamber.com/events/details/business-day-in-madison-02-24-2016-1888
END:VEVENT

END:VCALENDAR
