BEGIN:VCALENDAR
VERSION:2.0
PRODID:-//ChamberMaster//Event Calendar 2.0//EN
METHOD:PUBLISH
X-PUBLISHED-TTL:P3D
REFRESH-INTERVAL:P3D
CALSCALE:GREGORIAN
BEGIN:VEVENT
DTSTART:20150331T150000Z
DTEND:20150331T200000Z
X-MICROSOFT-CDO-ALLDAYEVENT:FALSE
SUMMARY:Build Your Family Tree
DESCRIPTION:Volunteers from the Walworth County Genealogy Society will be available at Matheson Memorial Library to assist you with...\n\n	beginning genealogy\n	sharing your research\n	census records\n	researching women\n	military records\n	New England & the East Coast\n	various ethnic groups\n	genealogy websites and software\n\nFree access to Ancestry.com is now available on any library pc. Volunteers will show you how to use this powerful tool.
X-ALT-DESC;FMTTYPE=text/html:Volunteers from the Walworth County Genealogy Society will be available at Matheson Memorial Library to assist you with...\n<ul>\n	<li>beginning genealogy</li>\n	<li>sharing your research</li>\n	<li>census records</li>\n	<li>researching women</li>\n	<li>military records</li>\n	<li>New England &amp\; the East Coast</li>\n	<li>various ethnic groups</li>\n	<li>genealogy websites and software</li>\n</ul>\nFree access to Ancestry.com is now available on any library pc. Volunteers will show you how to use this powerful tool.
LOCATION:Matheson Memorial Library 101 N. Wisconsin St.\, Elkhorn
UID:e.2059.847
SEQUENCE:3
DTSTAMP:20260425T022845Z
URL:https://business.elkhornchamber.com/events/details/build-your-family-tree-03-31-2015-847
END:VEVENT

END:VCALENDAR
