BEGIN:VCALENDAR
VERSION:2.0
PRODID:-//ChamberMaster//Event Calendar 2.0//EN
METHOD:PUBLISH
X-PUBLISHED-TTL:P3D
REFRESH-INTERVAL:P3D
CALSCALE:GREGORIAN
BEGIN:VEVENT
DTSTART:20170615T233000Z
DTEND:20170616T010000Z
X-MICROSOFT-CDO-ALLDAYEVENT:FALSE
SUMMARY:Build a Better World Through Music
DESCRIPTION:Recently retired elementary music teachers\, Chris Ghilani and Maria Sharpe\, have connected to make and share music with each other and the community.  Singing a wide variety of songs while accompanying themselves on folk instruments such as the Autoharp and Ukulele\, Chris and Maria present a program of songs for listening and singing along.  Join us as we play and sing a wide variety of songs from Stephen Foster to John Denver to the Simon and Garfunkel and beyond.\n\nAs part of our Adult Summer Reading Program\, all attendees will receive an entry into our end-of-summer grand prize drawing!
X-ALT-DESC;FMTTYPE=text/html:<p>Recently retired elementary music teachers\, Chris Ghilani and Maria Sharpe\, have connected to make and share music with each other and the community.&nbsp\; Singing a wide variety of songs while accompanying themselves on folk instruments such as the Autoharp and Ukulele\, Chris and Maria present a program of songs for listening and singing along.&nbsp\; Join us as we play and sing a wide variety of songs from&nbsp\;Stephen Foster to John Denver to the Simon and Garfunkel and beyond.</p>\n\n<p>As part of our Adult Summer Reading Program\, all attendees will receive an entry into our end-of-summer grand prize drawing!</p>\n
LOCATION:
UID:e.2059.5087
SEQUENCE:3
DTSTAMP:20260423T041504Z
URL:https://business.elkhornchamber.com/events/details/build-a-better-world-through-music-5087
END:VEVENT

END:VCALENDAR
