BEGIN:VCALENDAR
VERSION:2.0
PRODID:-//ChamberMaster//Event Calendar 2.0//EN
METHOD:PUBLISH
X-PUBLISHED-TTL:P3D
REFRESH-INTERVAL:P3D
CALSCALE:GREGORIAN
BEGIN:VEVENT
DTSTART:20190512T000000Z
DTEND:20190512T040000Z
X-MICROSOFT-CDO-ALLDAYEVENT:FALSE
SUMMARY:BritBeat: A Tribute to the Beatles
DESCRIPTION:BritBeat is a 'Multimedia Concert Journey Through Beatles Music History'\, and tells the story of the Beatles from their early days at the Cavern Club in Liverpool\, their dynamic debut on the Ed Sullivan Show\, the attendance busting concert at Shea Stadium and onward to the psychedelic Sgt. Pepper era and finally the later years of Abbey Road and the White Album. The entire concert plays to the backdrop of immersive and captivating moving multimedia that intertwines with the moods and emotions of the Beatles' iconic music catalog.\n\nThe show progresses through Beatles music history from its beginnings to its ultimate end in 1969\, with dynamic set changes and multiple costume changes. The constantly evolving show is designed to evoke the excitement and passion of the Beatles influence on the shapes and sounds of the 1960s. Fun\, thought-provoking\, energized and a captivating journey of the Beatles evolution and impact on pop culture in the turbulent sixties.\n\nDon't want the fun to end? Book your overnight stay with this BritBeat Package.\n\nThe performance will take place in our Geneva Ballroom. General seating\, no reserved seating.\n\nDoors open at 7:00pm for seating and cash bars\, 8:00pm   10:00pm Show\n\nCost of Event: $25.00 per person. For tickets\, visit www.lakelawnresort.eventbrite.com.\n\n\nTake your ticket to our Frontier Restaurant before the performance and receive $5 off our Saturday Prime Rib Buffet. (reservations highly recommended). Call 262.725.9155 to make your reservation. \n\n\n\n \n\n\n\nFree parking available in the Conference Center Lot.
X-ALT-DESC;FMTTYPE=text/html:<p style="box-sizing: inherit\; text-rendering: optimizelegibility\; line-height: 1.6\; margin: 0px 0px 1rem\; padding: 0px\; font-size: 17.6px\; color: rgb(90\, 89\, 89)\; font-family: Neuton\, Georgia\, &quot\;times new roman&quot\;\, serif\; background-color: rgb(254\, 254\, 254)\;"><span style="box-sizing: inherit\; color: rgb(0\, 0\, 0)\; font-size: 14pt\;">BritBeat is a &lsquo\;Multimedia Concert Journey Through Beatles Music History&rsquo\;\, and tells the story of the Beatles from their early days at the Cavern Club in Liverpool\, their dynamic debut on the Ed Sullivan Show\, the attendance busting concert at Shea Stadium and onward to the psychedelic Sgt. Pepper era and finally the later years of Abbey Road and the White Album. The entire concert plays to the backdrop of immersive and captivating moving multimedia that intertwines with the moods and emotions of the Beatles&rsquo\; iconic music catalog.</span></p>\n\n<p style="box-sizing: inherit\; text-rendering: optimizelegibility\; line-height: 1.6\; margin: 0px 0px 1rem\; padding: 0px\; font-size: 17.6px\; color: rgb(90\, 89\, 89)\; font-family: Neuton\, Georgia\, &quot\;times new roman&quot\;\, serif\; background-color: rgb(254\, 254\, 254)\;"><span style="box-sizing: inherit\; color: rgb(0\, 0\, 0)\; font-size: 14pt\;">The show progresses through Beatles music history from its beginnings to its ultimate end in 1969\, with dynamic set changes and multiple costume changes. The constantly evolving show is designed to evoke the excitement and passion of the Beatles influence on the shapes and sounds of the 1960s. Fun\, thought-provoking\, energized and a captivating journey of the Beatles evolution and impact on pop culture in the turbulent sixties.</span></p>\n\n<p style="box-sizing: inherit\; text-rendering: optimizelegibility\; line-height: 1.6\; margin: 0px 0px 1rem\; padding: 0px\; font-size: 17.6px\; color: rgb(90\, 89\, 89)\; font-family: Neuton\, Georgia\, &quot\;times new roman&quot\;\, serif\; background-color: rgb(254\, 254\, 254)\;"><span style="box-sizing: inherit\; font-size: 14pt\; color: rgb(0\, 0\, 0)\;">Don&rsquo\;t want the fun to end?&nbsp\;<span style="box-sizing: inherit\; font-weight: 700\; line-height: inherit\;"><a href="https://www.lakelawnresort.com/packages/britbeat-package/" style="box-sizing: inherit\; line-height: inherit\; background-color: transparent\; color: rgb(0\, 43\, 94)\; text-decoration-line: none\; cursor: pointer\;">Book your overnight stay with this BritBeat Package</a></span>.</span></p>\n\n<p style="box-sizing: inherit\; text-rendering: optimizelegibility\; line-height: 1.6\; margin: 0px 0px 1rem\; padding: 0px\; font-size: 17.6px\; color: rgb(90\, 89\, 89)\; font-family: Neuton\, Georgia\, &quot\;times new roman&quot\;\, serif\; background-color: rgb(254\, 254\, 254)\;"><span style="box-sizing: inherit\; font-size: 14pt\; color: rgb(0\, 0\, 0)\;">The performance will take place in our Geneva Ballroom. General seating\, no reserved seating.</span></p>\n\n<p style="box-sizing: inherit\; text-rendering: optimizelegibility\; line-height: 1.6\; margin: 0px 0px 1rem\; padding: 0px\; font-size: 17.6px\; color: rgb(90\, 89\, 89)\; font-family: Neuton\, Georgia\, &quot\;times new roman&quot\;\, serif\; background-color: rgb(254\, 254\, 254)\;"><span style="box-sizing: inherit\; font-size: 14pt\; color: rgb(0\, 0\, 0)\;">Doors open at 7:00pm for seating and cash bars\, 8:00pm &ndash\; 10:00pm Show</span><br style="box-sizing: inherit\;" />\n<span style="box-sizing: inherit\; font-size: 14pt\; color: rgb(0\, 0\, 0)\;">Cost of Event: $25.00 per person. For tickets\, visit&nbsp\;<span style="box-sizing: inherit\; font-weight: 700\; line-height: inherit\;"><a href="https://www.lakelawnresort.eventbrite.com/" style="box-sizing: inherit\; line-height: inherit\; background-color: transparent\; color: rgb(0\, 43\, 94)\; text-decoration-line: none\; cursor: pointer\;">www.lakelawnresort.eventbrite.com</a></span>.</span></p>\n\n<div data-block="true" data-editor="3mf2a" data-offset-key="de4gv-0-0" style="box-sizing: inherit\; margin: 0px\; padding: 0px\; color: rgb(90\, 89\, 89)\; font-family: Neuton\, Georgia\, &quot\;times new roman&quot\;\, serif\; font-size: 17.6px\; background-color: rgb(254\, 254\, 254)\;">\n<div class="_1mf _1mj" data-offset-key="de4gv-0-0" style="box-sizing: inherit\; margin: 0px\; padding: 0px\;"><span data-offset-key="de4gv-0-0" style="box-sizing: inherit\; font-size: 14pt\; color: rgb(0\, 0\, 0)\;">Take your ticket to our&nbsp\;<span style="box-sizing: inherit\; font-weight: 700\; line-height: inherit\;"><a href="https://www.lakelawnresort.com/dining/frontier-restaurant/" style="box-sizing: inherit\; line-height: inherit\; background-color: transparent\; color: rgb(0\, 43\, 94)\; text-decoration-line: none\; cursor: pointer\;">Frontier Restaurant</a></span>&nbsp\;before the performance and receive $5 off our Saturday Prime Rib Buffet. (reservations highly recommended). Call 262.725.9155 to make your reservation.&nbsp\;</span></div>\n</div>\n\n<div data-block="true" data-editor="3mf2a" data-offset-key="d9scn-0-0" style="box-sizing: inherit\; margin: 0px\; padding: 0px\; color: rgb(90\, 89\, 89)\; font-family: Neuton\, Georgia\, &quot\;times new roman&quot\;\, serif\; font-size: 17.6px\; background-color: rgb(254\, 254\, 254)\;">\n<div class="_1mf _1mj" data-offset-key="d9scn-0-0" style="box-sizing: inherit\; margin: 0px\; padding: 0px\;"><span data-offset-key="d9scn-0-0" style="box-sizing: inherit\; font-size: 14pt\; color: rgb(0\, 0\, 0)\;">&nbsp\;</span></div>\n</div>\n\n<div data-block="true" data-editor="3mf2a" data-offset-key="1ravq-0-0" style="box-sizing: inherit\; margin: 0px\; padding: 0px\; color: rgb(90\, 89\, 89)\; font-family: Neuton\, Georgia\, &quot\;times new roman&quot\;\, serif\; font-size: 17.6px\; background-color: rgb(254\, 254\, 254)\;">\n<div class="_1mf _1mj" data-offset-key="1ravq-0-0" style="box-sizing: inherit\; margin: 0px\; padding: 0px\;"><span data-offset-key="1ravq-0-0" style="box-sizing: inherit\; font-size: 14pt\; color: rgb(0\, 0\, 0)\;">Free parking available in the Conference Center Lot.&nbsp\;</span></div>\n</div>\n
LOCATION:Lake Lawn Resort 2400 East Geneva Street Delavan WI 53115
UID:e.2059.10842
SEQUENCE:3
DTSTAMP:20260421T135110Z
URL:https://business.elkhornchamber.com/events/details/britbeat-a-tribute-to-the-beatles-10842
END:VEVENT

END:VCALENDAR
