BEGIN:VCALENDAR
VERSION:2.0
PRODID:-//ChamberMaster//Event Calendar 2.0//EN
METHOD:PUBLISH
X-PUBLISHED-TTL:P3D
REFRESH-INTERVAL:P3D
CALSCALE:GREGORIAN
BEGIN:VEVENT
DTSTART:20180304T170000Z
DTEND:20180304T210000Z
X-MICROSOFT-CDO-ALLDAYEVENT:FALSE
SUMMARY:Bridal Show at Lake Lawn Resort
DESCRIPTION:Join Lake Lawn Resort for the Bridal Show on Sunday\, March 4th!\nOver 30 Wedding Vendors\n\nWedding Event Workshops\n\nBridal Gown Boutique\n\nOvernight Stay Packages Available
X-ALT-DESC;FMTTYPE=text/html:Join Lake Lawn Resort for the Bridal Show on Sunday\, March 4th!\n<p><span style="color: #000000\;"><span style="font-size: 14pt\;">Over 30 Wedding Vendors</span></span></p>\n\n<p><span style="font-size: 14pt\; color: #000000\;">Wedding Event Workshops</span></p>\n\n<p><span style="font-size: 14pt\; color: #000000\;">Bridal Gown Boutique</span></p>\n\n<p><span style="font-size: 14pt\; color: #000000\;">Overnight Stay Packages Available</span></p>\n
LOCATION:Lake Lawn Resort 2400 E. Geneva Street Delavan\, WI
UID:e.2059.7515
SEQUENCE:3
DTSTAMP:20260422T131143Z
URL:https://business.elkhornchamber.com/events/details/bridal-show-at-lake-lawn-resort-7515
END:VEVENT

END:VCALENDAR
