BEGIN:VCALENDAR
VERSION:2.0
PRODID:-//ChamberMaster//Event Calendar 2.0//EN
METHOD:PUBLISH
X-PUBLISHED-TTL:P3D
REFRESH-INTERVAL:P3D
CALSCALE:GREGORIAN
BEGIN:VEVENT
DTSTART:20160221T173000Z
DTEND:20160221T203000Z
X-MICROSOFT-CDO-ALLDAYEVENT:FALSE
SUMMARY:Bridal Fair at Evergreen Country Club
DESCRIPTION:Don't miss our 8th Annual Bridal Fair in the Evergreen Room! You can visit with Representatives from everything you'll need for your perfect wedding...caterers\, florists\, bakeries\, photographers\, formal wear\, jewelers\, limos\, DJ's\, salons\, travel agencies\, plus...\n\n\n\nDoor Prizes\, Food Sampling\, Wine Tasting and Bridal Fashion Show presented by Fair Lady Bridal SHoppe - Janseville wi at 1pm!\n\n\n\nAdvance admission tickets available for $5.00 at EvergreenGolf.com
X-ALT-DESC;FMTTYPE=text/html:Don&#39\;t miss our 8th Annual Bridal Fair in the Evergreen Room! You can visit with Representatives from everything you&#39\;ll need for your perfect wedding...caterers\, florists\, bakeries\, photographers\, formal wear\, jewelers\, limos\, DJ&#39\;s\, salons\, travel agencies\, plus...<br />\n<br />\nDoor Prizes\, Food Sampling\, Wine Tasting and Bridal Fashion Show presented by Fair Lady Bridal SHoppe - Janseville wi at 1pm!<br />\n<br />\nAdvance admission tickets available for $5.00 at EvergreenGolf.com<br />\n&nbsp\;
LOCATION:N6246 US Hwy. 12 ELkhorn Wi 53121
UID:e.2059.1877
SEQUENCE:3
DTSTAMP:20260424T080935Z
URL:https://business.elkhornchamber.com/events/details/bridal-fair-at-evergreen-country-club-02-21-2016-1877
END:VEVENT

END:VCALENDAR
