BEGIN:VCALENDAR
VERSION:2.0
PRODID:-//ChamberMaster//Event Calendar 2.0//EN
METHOD:PUBLISH
X-PUBLISHED-TTL:P3D
REFRESH-INTERVAL:P3D
CALSCALE:GREGORIAN
BEGIN:VEVENT
DTSTART:20150222T173000Z
DTEND:20150222T203000Z
X-MICROSOFT-CDO-ALLDAYEVENT:FALSE
SUMMARY:Bridal Fair
DESCRIPTION:Don't miss our 7th Annual Bridal Fair in the Evergreen Room. You can visit with representatives from everything you'll need for your perfect wedding including caterers\, florists\, bakeries\, photographers\, formal wear\, jewelers\, limos\, DJ's\, salons\, travel agencies and more. Plus door prizes\, food sampling\, wine tasting and a Bridal Fashion Show presented by Fair Lady Bridal Shoppe from Janesville at 1pm.
X-ALT-DESC;FMTTYPE=text/html:Don&#39\;t miss our 7th Annual Bridal Fair in the Evergreen Room. You can visit with representatives from everything you&#39\;ll need for your perfect wedding including caterers\, florists\, bakeries\, photographers\, formal wear\, jewelers\, limos\, DJ&#39\;s\, salons\, travel agencies and more. Plus door prizes\, food sampling\, wine tasting and a Bridal Fashion Show presented by Fair Lady Bridal Shoppe from Janesville at 1pm.
LOCATION:Evergreen Golf Club N6246 Hwy 12\, Elkhorn
UID:e.2059.838
SEQUENCE:3
DTSTAMP:20260425T022444Z
URL:https://business.elkhornchamber.com/events/details/bridal-fair-02-22-2015-838
END:VEVENT

END:VCALENDAR
