BEGIN:VCALENDAR
VERSION:2.0
PRODID:-//ChamberMaster//Event Calendar 2.0//EN
METHOD:PUBLISH
X-PUBLISHED-TTL:P3D
REFRESH-INTERVAL:P3D
CALSCALE:GREGORIAN
BEGIN:VEVENT
DTSTART:20170403T220000Z
DTEND:20170403T233000Z
X-MICROSOFT-CDO-ALLDAYEVENT:FALSE
SUMMARY:Breast Cancer Support Group
DESCRIPTION:March sharing and caring time together.\n\nBreast Cancer support group addesses the fears and adjustments faced by women with breast cancer.
X-ALT-DESC;FMTTYPE=text/html:March sharing and caring time together.<br />\nBreast Cancer support group addesses the fears and adjustments faced by women with breast cancer.
LOCATION:Aurora Wellness Center Classroom B 300 McCanna Parkway Burlington\, WI 531005
UID:e.2059.2540
SEQUENCE:3
DTSTAMP:20260423T074315Z
URL:https://business.elkhornchamber.com/events/details/breast-cancer-support-group-04-03-2017-2540
END:VEVENT

END:VCALENDAR
