BEGIN:VCALENDAR
VERSION:2.0
PRODID:-//ChamberMaster//Event Calendar 2.0//EN
METHOD:PUBLISH
X-PUBLISHED-TTL:P3D
REFRESH-INTERVAL:P3D
CALSCALE:GREGORIAN
BEGIN:VEVENT
DTSTART:20180217T153000Z
DTEND:20180217T153000Z
X-MICROSOFT-CDO-ALLDAYEVENT:FALSE
SUMMARY:Breakfast Homebuyer Seminar
DESCRIPTION:The Most Important Meal of Your Day!\n\nBreakfast Homebuyer Seminar~\n\n\n\nJoin us for a delicious breakfast and learn the important steps to becoming a home owner. Presenters Include: Gary Grocholski of PryaMax Bank\, Kanchana Hamilton of Shorewest and Dennis & Christine Richards of Richards Group Allstate.
X-ALT-DESC;FMTTYPE=text/html:The Most Important Meal of Your Day!<br />\nBreakfast Homebuyer Seminar~<br />\n<br />\nJoin us for a delicious breakfast and learn the important steps to becoming a home owner. Presenters Include: Gary Grocholski of PryaMax Bank\, Kanchana Hamilton of Shorewest and Dennis &amp\; Christine Richards of Richards Group Allstate.
LOCATION:Elkhorn Chamber of Commerce 203 E. Walworth Street Elkhorn\, WI 53121
UID:e.2059.7523
SEQUENCE:3
DTSTAMP:20260422T133034Z
URL:https://business.elkhornchamber.com/events/details/breakfast-homebuyer-seminar-7523
END:VEVENT

END:VCALENDAR
