BEGIN:VCALENDAR
VERSION:2.0
PRODID:-//ChamberMaster//Event Calendar 2.0//EN
METHOD:PUBLISH
X-PUBLISHED-TTL:P3D
REFRESH-INTERVAL:P3D
CALSCALE:GREGORIAN
BEGIN:VEVENT
DTSTART:20160628T190000Z
DTEND:20160628T203000Z
X-MICROSOFT-CDO-ALLDAYEVENT:FALSE
SUMMARY:Brain Fitness & Ageless Grace Open House
DESCRIPTION:A Day in Time~ A Memory Care and Respite Program presents Brain Fitness & Ageless Grace Open House.\n\nKeep your brain sharp through this monthly\, interactive brain fitness club. Learn self help techniques that include:\n\n	Brain Perservation\n	Mind Excercises\n	Reducing Stress\n	Nutrition Tips\n	Aging Wellness\, Education & Guest Speakers\n\nIntended for all individuals wanting to maintain Brain Health and enjoy the benefits of Social Engagement!\n\nCome and sample our brain smoothies! Free to public!
X-ALT-DESC;FMTTYPE=text/html:A Day in Time~ A Memory Care and Respite Program presents Brain Fitness &amp\; Ageless Grace Open House.<br />\nKeep your brain sharp through this monthly\, interactive brain fitness club. Learn self help techniques that include:\n<ul>\n	<li>Brain Perservation</li>\n	<li>Mind Excercises</li>\n	<li>Reducing Stress</li>\n	<li>Nutrition Tips</li>\n	<li>Aging Wellness\, Education &amp\; Guest Speakers</li>\n</ul>\nIntended for all individuals wanting to maintain Brain Health and enjoy the benefits of Social Engagement!<br />\nCome and sample our brain smoothies! Free to public!
LOCATION:Inside CATHE Center Lower Level Cathe Center 125 E State St. Burlington\, WI
UID:e.2059.3465
SEQUENCE:3
DTSTAMP:20260423T235107Z
URL:https://business.elkhornchamber.com/events/details/brain-fitness-ageless-grace-open-house-06-28-2016-3465
END:VEVENT

END:VCALENDAR
