BEGIN:VCALENDAR
VERSION:2.0
PRODID:-//ChamberMaster//Event Calendar 2.0//EN
METHOD:PUBLISH
X-PUBLISHED-TTL:P3D
REFRESH-INTERVAL:P3D
CALSCALE:GREGORIAN
BEGIN:VEVENT
DTSTART:20150310T220000Z
DTEND:20150311T000000Z
X-MICROSOFT-CDO-ALLDAYEVENT:FALSE
SUMMARY:Boy Scouts of America Fundraising Event
DESCRIPTION:Held at Associated Bank in Elkhorn\, come hear what the scouts are doing in our area and throughout the council. Learn about the service performed in Elkhorn and council wide\; benefits youth receive from scouting\; camping opportunities and the upgrades that have been made and scouting's educational program\, citizenship program\, self-reliance and leadership opportunities.
X-ALT-DESC;FMTTYPE=text/html:<p style="font-family: Verdana\, Geneva\, Arial\, Helvetica\, sans-serif\; font-size: 13.3333330154419px\; margin-top: 0px\; margin-bottom: 0px\; background-color: rgb(255\, 255\, 255)\;"><span style="font-size: 13.3333330154419px\;">Held at Associated Bank in Elkhorn\, come hear what the scouts are doing in our area and throughout the council. Learn about the service performed in Elkhorn and council wide\; benefits youth receive from scouting\; camping opportunities and the upgrades that have been made and scouting&#39\;s educational program\, citizenship program\, self-reliance and leadership opportunities.</span></p>\n
LOCATION:Associated Bank Elkhorn Branch
UID:e.2059.1140
SEQUENCE:3
DTSTAMP:20260425T004955Z
URL:https://business.elkhornchamber.com/events/details/boy-scouts-of-america-fundraising-event-03-10-2015-1140
END:VEVENT

END:VCALENDAR
