BEGIN:VCALENDAR
VERSION:2.0
PRODID:-//ChamberMaster//Event Calendar 2.0//EN
METHOD:PUBLISH
X-PUBLISHED-TTL:P3D
REFRESH-INTERVAL:P3D
CALSCALE:GREGORIAN
BEGIN:VEVENT
DTSTART:20160409T210000Z
DTEND:20160409T210000Z
X-MICROSOFT-CDO-ALLDAYEVENT:FALSE
SUMMARY:Bowl for Kids Sake
DESCRIPTION:Bowl for Kids Sake! Benefiting Big Brothers Big Sisters Youth Mentoring Programs. \n\nPick a date and dress up as your favorite superhero\, form a superhero team\, partner with superhero sponsors\, get superhero pledges and bring family\, friends and co-workers for a fun evening to help a good cause!\n\nRaise $50-Big bowls HALF OFF! Raise $100- Big Bowls FREE!\n\n\n\nB4KS Jefferson County - Friday\, April 8th\, 6:30pm (Rock River Lanes/Fort Atkinson)\n\nB4KS Walworth County - Saturday\, April 9th\, 4:00 & 7:00pm (Delavan Lanes/Delavan)\n\nB4KS Rock County - Saturday\, April 16th\, 4:00 & 7:00pm (Black Bridge Bowl/Janseville)\n\n\n\nReal people\, Real heores\, Tights Optional.\n\nIt's Never Too Early to be Super!
X-ALT-DESC;FMTTYPE=text/html:Bowl for Kids Sake! Benefiting Big Brothers Big Sisters Youth Mentoring Programs.&nbsp\;<br />\nPick a date and dress up as your favorite superhero\, form a superhero team\, partner with superhero sponsors\, get superhero pledges and bring family\, friends and co-workers for a fun evening to help a good cause!<br />\nRaise $50-Big bowls HALF OFF! Raise $100- Big Bowls FREE!<br />\n<br />\nB4KS Jefferson County - Friday\, April 8th\, 6:30pm (Rock River Lanes/Fort Atkinson)<br />\nB4KS Walworth County - Saturday\, April 9th\, 4:00 &amp\; 7:00pm (Delavan Lanes/Delavan)<br />\nB4KS Rock County - Saturday\, April 16th\, 4:00 &amp\; 7:00pm (Black Bridge Bowl/Janseville)<br />\n<br />\nReal people\, Real heores\, Tights Optional.<br />\nIt&#39\;s Never Too Early to be Super!
LOCATION:B4KS Jefferson County - Friday\, April 8th\, 6:30pm (Rock River Lanes/Fort Atkinson) B4KS Walworth County - Saturday\, April 9th\, 4:00 & 7:00pm (Delavan Lanes/Delavan) B4KS Rock County - Saturday\, April 16th\, 4:00 & 7:00pm (Black Bridge Bowl/Janseville)
UID:e.2059.1925
SEQUENCE:3
DTSTAMP:20260424T045009Z
URL:https://business.elkhornchamber.com/events/details/bowl-for-kids-sake-04-09-2016-1925
END:VEVENT

END:VCALENDAR
