BEGIN:VCALENDAR
VERSION:2.0
PRODID:-//ChamberMaster//Event Calendar 2.0//EN
METHOD:PUBLISH
X-PUBLISHED-TTL:P3D
REFRESH-INTERVAL:P3D
CALSCALE:GREGORIAN
BEGIN:VEVENT
DTSTART:20180310T230000Z
DTEND:20180311T020000Z
X-MICROSOFT-CDO-ALLDAYEVENT:FALSE
SUMMARY:Bowl For Kids - BBBS Fundraiser
DESCRIPTION:Come join us at Delavan Lanes in Delavan for a fun afternoon of bowling. Grab some buddies\, form a team\, and join the fun!\n\n\n\nThis event is a MAJOR part of our Agency funding\, so please consider supporting this great organization. This allows us to expand our current programs and grow BBBS in the tri-county area!\n\n\n\nCome bowl with us! $25/kids & $40/adults.\n\nUnable to bowl? Sponsorships are available!\n\n3 hours of unlimited bowling\, shoes\, soda\, pizza\, and a t-shirt!
X-ALT-DESC;FMTTYPE=text/html:<span class="_4n-j _fbReactionComponent__eventDetailsContentTags fsl" data-testid="event-permalink-details">Come join us at Delavan Lanes in Delavan for a fun afternoon of bowling. Grab some buddies\, form a team\, and join the fun!<br />\n<br />\nThis event is a MAJOR part of our Agency funding\, so please consider supporting this great organization. This allows us to expand our current programs and grow BBBS in the tri-county area!<br />\n<br />\nCome bowl with us! $25/kids &amp\; $40/adults.<br />\nUnable to bowl? Sponsorships are available!<br />\n3 hours of unlimited bowling\, shoes\, soda\, pizza\, and a t-shirt!</span>
LOCATION:Delavan Lanes 509 S. 7th Street Delavan\, Wi 53115
UID:e.2059.7521
SEQUENCE:3
DTSTAMP:20260422T114626Z
URL:https://business.elkhornchamber.com/events/details/bowl-for-kids-bbbs-fundraiser-7521
END:VEVENT

END:VCALENDAR
