BEGIN:VCALENDAR
VERSION:2.0
PRODID:-//ChamberMaster//Event Calendar 2.0//EN
METHOD:PUBLISH
X-PUBLISHED-TTL:P3D
REFRESH-INTERVAL:P3D
CALSCALE:GREGORIAN
BEGIN:VEVENT
DTSTART:20170114T160000Z
DTEND:20170114T190000Z
X-MICROSOFT-CDO-ALLDAYEVENT:FALSE
SUMMARY:Book & Bake Sale
DESCRIPTION:Friends of Matheson Memorial Library are hosting their annual Book & Bake Sale. Fill a bag for only $5.
X-ALT-DESC;FMTTYPE=text/html:Friends of Matheson Memorial Library are hosting their annual Book &amp\; Bake Sale. Fill a bag for only $5.
LOCATION:Matheson Memorial Library 101 N. Wisconsin Street Elkhorn\, Wi
UID:e.2059.4624
SEQUENCE:3
DTSTAMP:20260423T122125Z
URL:https://business.elkhornchamber.com/events/details/book-bake-sale-4624
END:VEVENT

END:VCALENDAR
