BEGIN:VCALENDAR
VERSION:2.0
PRODID:-//ChamberMaster//Event Calendar 2.0//EN
METHOD:PUBLISH
X-PUBLISHED-TTL:P3D
REFRESH-INTERVAL:P3D
CALSCALE:GREGORIAN
BEGIN:VEVENT
DTSTART:20180512T213000Z
DTEND:20180512T213000Z
X-MICROSOFT-CDO-ALLDAYEVENT:FALSE
SUMMARY:Bluesfest and More!
DESCRIPTION:Come\, kick back and relax as you listen to an evening of Blues\, Classic Rock\, R & B and much more! Bands start playing at 5:00 pm with an all band jam session later in the evening. Tickets are $20 individuals\, $15 Elkhorn Arts Foundation Members\, $10 Students. There are three bands on the roster and the night will end with an all-star jam of fabulous musicians!\n\n\n\nThe Blues Fest 2018 sponsors are:\n\nBreber Music\n\nArris Capital Management\n\nMonte Carlo Room\n\nWalworth County Fairgrounds\n\nJohn and Jean Henderson\n\nFirefly Art Glass\n\nElkhorn Chamber of Commerce\n\n\n\nThere will be food available to purchase and the bar will definitely be open!
X-ALT-DESC;FMTTYPE=text/html:<span>Come\, kick back and relax as you listen to an evening of Blues\, Classic Rock\, R &amp\; B and much more! Bands start playing at 5:00 pm with an all band jam session later in the evening. Tickets are $20 individuals\, $15 Elkhorn Arts Foundation Members\, $10 Students. There are three bands on the roster and the night will end with an all-star jam of fabulous musicians!<br />\n<br />\nThe Blues Fest 2018 sponsors are:<br />\nBreber Music<br />\nArris Capital Management<br />\nMonte Carlo Room<br />\nWalworth County Fairgrounds<br />\nJohn and Jean Henderson<br />\nFirefly Art Glass<br />\nElkhorn Chamber of Commerce<br />\n<br />\nThere will be food available to purchase and the bar will definitely be open!</span>
LOCATION:Monte Carlo Room Elkhorn\, WI 53121
UID:e.2059.8658
SEQUENCE:3
DTSTAMP:20260422T085145Z
URL:https://business.elkhornchamber.com/events/details/bluesfest-and-more-8658
END:VEVENT

END:VCALENDAR
