BEGIN:VCALENDAR
VERSION:2.0
PRODID:-//ChamberMaster//Event Calendar 2.0//EN
METHOD:PUBLISH
X-PUBLISHED-TTL:P3D
REFRESH-INTERVAL:P3D
CALSCALE:GREGORIAN
BEGIN:VEVENT
DTSTART:20151101T170000Z
DTEND:20151101T200000Z
X-MICROSOFT-CDO-ALLDAYEVENT:FALSE
SUMMARY:Black Knight Birthday Brunch
DESCRIPTION:Esteemed golfer Gary Player\, who designed 18 signature holes at Geneva National\, celebrates 80 years November 1st. To honor the Black Knight's birthday\, the Hunt Club Steakhouse is opening its doors for a first-ever prix fixe brunch! What's more\, Nov. 1 also marks the last official day of the golf season at Geneva National. So book a tee time and finish or begin with brunch and panoramic views fo Player's award-winning course. Reservations Recommended.
X-ALT-DESC;FMTTYPE=text/html:Esteemed golfer Gary Player\, who designed 18 signature holes at Geneva National\, celebrates 80 years November 1st. To honor the Black Knight&#39\;s birthday\, the Hunt Club Steakhouse is opening its doors for a first-ever prix fixe brunch! What&#39\;s more\, Nov. 1 also marks the last official day of the golf season at Geneva National. So book a tee time and finish or begin with brunch and panoramic views fo Player&#39\;s award-winning course. Reservations Recommended.
LOCATION:Hunt Club Steakhouse Geneva National Resort Lake Geneva\, WI
UID:e.2059.1743
SEQUENCE:3
DTSTAMP:20260424T124118Z
URL:https://business.elkhornchamber.com/events/details/black-knight-birthday-brunch-11-01-2015-1743
END:VEVENT

END:VCALENDAR
