BEGIN:VCALENDAR
VERSION:2.0
PRODID:-//ChamberMaster//Event Calendar 2.0//EN
METHOD:PUBLISH
X-PUBLISHED-TTL:P3D
REFRESH-INTERVAL:P3D
CALSCALE:GREGORIAN
BEGIN:VEVENT
DTSTART:20140510T003000Z
DTEND:20140510T023000Z
X-MICROSOFT-CDO-ALLDAYEVENT:FALSE
SUMMARY:Best of Broadway
DESCRIPTION:Directed by David Whitney - Lakeland Players will offer show stopping song and dance to old and new Broadway shows.
X-ALT-DESC;FMTTYPE=text/html:Directed by David Whitney - Lakeland Players will offer show stopping song and dance to old and new Broadway shows.
LOCATION:Walworth County Performing Arts Center 15 W. Walworth St.\, Elkhorn
UID:e.2059.33
SEQUENCE:3
DTSTAMP:20260425T181915Z
URL:https://business.elkhornchamber.com/events/details/best-of-broadway-05-09-2014-33
END:VEVENT

END:VCALENDAR
