BEGIN:VCALENDAR
VERSION:2.0
PRODID:-//ChamberMaster//Event Calendar 2.0//EN
METHOD:PUBLISH
X-PUBLISHED-TTL:P3D
REFRESH-INTERVAL:P3D
CALSCALE:GREGORIAN
BEGIN:VEVENT
DTSTART:20160818T203000Z
DTEND:20160818T213000Z
X-MICROSOFT-CDO-ALLDAYEVENT:FALSE
SUMMARY:Bereavement Support Group
DESCRIPTION:Atrium Health and Senior Living is partnering with St. Croix Hospice to offer a Bereavement Support Group to the community.  Chaplain Terry Pritchett will be hosting the group and welcomes anyone in the area that needs support with any type of bereavement process.
X-ALT-DESC;FMTTYPE=text/html:Atrium Health and Senior Living is partnering with St. Croix Hospice to offer a Bereavement Support Group to the community.&nbsp\; Chaplain Terry Pritchett will be hosting the group and welcomes anyone in the area that needs support with any type of bereavement process.
LOCATION:Atrium Senior Living of Williams Bay at Sherwood Lodge 116 Cherry St. Williams Bay\, WI
UID:e.2059.4499
SEQUENCE:3
DTSTAMP:20260423T202122Z
URL:https://business.elkhornchamber.com/events/details/bereavement-support-group-08-18-2016-4499
END:VEVENT

END:VCALENDAR
