BEGIN:VCALENDAR
VERSION:2.0
PRODID:-//ChamberMaster//Event Calendar 2.0//EN
METHOD:PUBLISH
X-PUBLISHED-TTL:P3D
REFRESH-INTERVAL:P3D
CALSCALE:GREGORIAN
BEGIN:VEVENT
DTSTART:20170330T233000Z
DTEND:20170331T010000Z
X-MICROSOFT-CDO-ALLDAYEVENT:FALSE
SUMMARY:Being Mortal: Medicine & End-of-Life Treatment
DESCRIPTION:The PBS Frontline documentary\, Being Mortal\, is based on the bestselling book by Atul Gawande\, a physician who wrote about the issues facing terminally ill patients and how treatment can impact end-of-life care. It follows the journeys of five people facing end of life and provides excellent insight into the issues surrounding this difficult time.\n\nThe documentary will be shown in the Library Community Center and will be followed by a discussion led by Dr. Richard Hansen\, a retired physician who has done extensive study on end-of-life medicine and treatment. The program is free\, but registration is required. Please call (262) 723-2678 to register. We hope you can join us for this difficult\, but highly relevant discussion.
X-ALT-DESC;FMTTYPE=text/html:<span style="font-family:arial\,helvetica\,sans-serif"><span style="font-size:12.0pt">The PBS <em>Frontline</em> documentary\, <em>Being Mortal\, </em>is based on the bestselling book by Atul Gawande\, a physician who wrote about the issues facing terminally ill patients and how treatment can impact end-of-life care. It follows the journeys of five people facing end of life and provides excellent insight into the issues surrounding this difficult time.</span><br />\n<span style="font-size:12.0pt">The documentary will be shown in the Library Community Center and will be followed by a discussion led by Dr. Richard Hansen\, a retired physician who has done extensive study on end-of-life medicine and treatment. The program is free\, but registration is required. Please call (262) 723-2678 to register. We hope you can join us for this difficult\, but highly relevant discussion.</span></span>
LOCATION:
UID:e.2059.4664
SEQUENCE:3
DTSTAMP:20260423T094703Z
URL:https://business.elkhornchamber.com/events/details/being-mortal-medicine-end-of-life-treatment-4664
END:VEVENT

END:VCALENDAR
