BEGIN:VCALENDAR
VERSION:2.0
PRODID:-//ChamberMaster//Event Calendar 2.0//EN
METHOD:PUBLISH
X-PUBLISHED-TTL:P3D
REFRESH-INTERVAL:P3D
CALSCALE:GREGORIAN
BEGIN:VEVENT
DTSTART;VALUE=DATE:20170511
DTEND;VALUE=DATE:20170512
TRANSP:TRANSPARENT
X-MICROSOFT-CDO-ALLDAYEVENT:TRUE
SUMMARY:Beasts of Bray Road
DESCRIPTION:Beasts of Bray Road
X-ALT-DESC;FMTTYPE=text/html:Beasts of Bray Road
LOCATION:Walworth County Historical Society Heritage Hall 210 S. Washington Street Elkhorn\, WI 53121
UID:e.2059.4743
SEQUENCE:3
DTSTAMP:20260423T060652Z
URL:https://business.elkhornchamber.com/events/details/beasts-of-bray-road-4743
END:VEVENT

END:VCALENDAR
