BEGIN:VCALENDAR
VERSION:2.0
PRODID:-//ChamberMaster//Event Calendar 2.0//EN
METHOD:PUBLISH
X-PUBLISHED-TTL:P3D
REFRESH-INTERVAL:P3D
CALSCALE:GREGORIAN
BEGIN:VEVENT
DTSTART;VALUE=DATE:20160714
DTEND;VALUE=DATE:20160715
TRANSP:TRANSPARENT
X-MICROSOFT-CDO-ALLDAYEVENT:TRUE
SUMMARY:Bean Bag Toss at Sunset Pool
DESCRIPTION:Join the Sunset Pool for their Themed Thursday~ Bean Bag Toss.  Winner will get a $50 gift card to Coaches Locker!\n\nHot Dogs for only $1.00\n\nCome join the fun!
X-ALT-DESC;FMTTYPE=text/html:<p>Join the Sunset Pool for their Themed Thursday~ Bean Bag Toss.&nbsp\; Winner will get a $50 gift card to Coaches Locker!<br />\nHot Dogs for only $1.00<br />\nCome join the fun!</p>\n
LOCATION:Sunset Pool Located on Devendorf St.\, West Centrailia St and Park Avenue
UID:e.2059.3510
SEQUENCE:3
DTSTAMP:20260423T220523Z
URL:https://business.elkhornchamber.com/events/details/bean-bag-toss-at-sunset-pool-07-14-2016-3510
END:VEVENT

END:VCALENDAR
