BEGIN:VCALENDAR
VERSION:2.0
PRODID:-//ChamberMaster//Event Calendar 2.0//EN
METHOD:PUBLISH
X-PUBLISHED-TTL:P3D
REFRESH-INTERVAL:P3D
CALSCALE:GREGORIAN
BEGIN:VEVENT
DTSTART:20160227T140000Z
DTEND:20160227T210000Z
X-MICROSOFT-CDO-ALLDAYEVENT:FALSE
SUMMARY:Barnyard Bargain Bonanza Indoor Flea Market
DESCRIPTION:Barnyard Indoor Flea Market! Great for the whole family with free admission as well as free parking.
X-ALT-DESC;FMTTYPE=text/html:Barnyard Indoor Flea Market! Great for the whole family with free admission as well as free parking.&nbsp\;&nbsp\;&nbsp\;&nbsp\;
LOCATION:Walworth County Fair's Activity Center Elkhorn\, WI 53121
UID:e.2059.1704
SEQUENCE:3
DTSTAMP:20260424T065018Z
URL:https://business.elkhornchamber.com/events/details/barnyard-bargain-bonanza-indoor-flea-market-02-27-2016-1704
END:VEVENT

END:VCALENDAR
