BEGIN:VCALENDAR
VERSION:2.0
PRODID:-//ChamberMaster//Event Calendar 2.0//EN
METHOD:PUBLISH
X-PUBLISHED-TTL:P3D
REFRESH-INTERVAL:P3D
CALSCALE:GREGORIAN
BEGIN:VEVENT
DTSTART:20190323T130000Z
DTEND:20190323T200000Z
X-MICROSOFT-CDO-ALLDAYEVENT:FALSE
SUMMARY:Barnyard Bargain Bonanza
DESCRIPTION:Come shop the different crafters and vendors at the Heritage Hall.
X-ALT-DESC;FMTTYPE=text/html:Come shop the different crafters and vendors at the Heritage Hall.
LOCATION:Heritage Hall
UID:e.2059.10612
SEQUENCE:3
DTSTAMP:20260421T154206Z
URL:https://business.elkhornchamber.com/events/details/barnyard-bargain-bonanza-10612
END:VEVENT

END:VCALENDAR
