BEGIN:VCALENDAR
VERSION:2.0
PRODID:-//ChamberMaster//Event Calendar 2.0//EN
METHOD:PUBLISH
X-PUBLISHED-TTL:P3D
REFRESH-INTERVAL:P3D
CALSCALE:GREGORIAN
BEGIN:VEVENT
DTSTART:20150228T140000Z
DTEND:20150228T210000Z
X-MICROSOFT-CDO-ALLDAYEVENT:FALSE
SUMMARY:Barnyard Bargain Bonanza
DESCRIPTION:Come shop the different crafters and vendors at the Walworth County Fair's Activity Center. Refreshments will be available.
X-ALT-DESC;FMTTYPE=text/html:Come shop the different crafters and vendors at the Walworth County Fair&#39\;s Activity Center. Refreshments will be available.
LOCATION:Walworth County Fairgrounds Activity Center
UID:e.2059.813
SEQUENCE:3
DTSTAMP:20260425T022556Z
URL:https://business.elkhornchamber.com/events/details/barnyard-bargain-bonanza-02-28-2015-813
END:VEVENT

END:VCALENDAR
