BEGIN:VCALENDAR
VERSION:2.0
PRODID:-//ChamberMaster//Event Calendar 2.0//EN
METHOD:PUBLISH
X-PUBLISHED-TTL:P3D
REFRESH-INTERVAL:P3D
CALSCALE:GREGORIAN
BEGIN:VEVENT
DTSTART:20160308T210000Z
DTEND:20160308T230000Z
X-MICROSOFT-CDO-ALLDAYEVENT:FALSE
SUMMARY:Bariatric Surgery Program at Aurora Medical Center
DESCRIPTION:Our Program is dedicated to helping patients lose weight though the best medical and surgical treatments. By combining surgery with nutrition\, exercise and psychological support\, Aurora's medical professionals are increasing the chances of weight-loss success-and changing lives every day. Peter Garza Jr.\, MD\, is a board-certified surgeon with expertise in performing a variety of surgical weight-loss techniques. Join us for a free bariatric surgery information seminar with Peter Garza Jr.\, MD\, a board-certified surgeon. In 2016 - Tuesdays- 3-5pm.
X-ALT-DESC;FMTTYPE=text/html:Our Program is dedicated to helping patients lose weight though the best medical and surgical treatments. By combining surgery with nutrition\, exercise and psychological support\, Aurora&#39\;s medical professionals are increasing the chances of weight-loss success-and changing lives every day. Peter Garza Jr.\, MD\, is a board-certified surgeon with expertise in performing a variety of surgical weight-loss techniques. Join us for a free bariatric surgery information seminar with Peter Garza Jr.\, MD\, a board-certified surgeon. In 2016 - Tuesdays- 3-5pm.
LOCATION:Aurora Wellness Center/Class Room B: 300 McCanna Parkway Burlington\, WI 53105 For the Dates Listed Below: January 12\, March 8\, May 10\, July 12\, September 13\, November 8. Aurora Lakeland Medical Center/Class Room C W3985 County Rd NN Elkhorn\, WI 53121 For the listed Dates below : February 9\, April 12\, June 14\, August 9\, October 11\, December 13
UID:e.2059.1983
SEQUENCE:3
DTSTAMP:20260424T064134Z
URL:https://business.elkhornchamber.com/events/details/bariatric-surgery-program-at-aurora-medical-center-03-08-2016-1983
END:VEVENT

END:VCALENDAR
