BEGIN:VCALENDAR
VERSION:2.0
PRODID:-//ChamberMaster//Event Calendar 2.0//EN
METHOD:PUBLISH
X-PUBLISHED-TTL:P3D
REFRESH-INTERVAL:P3D
CALSCALE:GREGORIAN
BEGIN:VEVENT
DTSTART;VALUE=DATE:20170401
DTEND;VALUE=DATE:20170402
TRANSP:TRANSPARENT
X-MICROSOFT-CDO-ALLDAYEVENT:TRUE
SUMMARY:Ballroom Dancing Date Night
DESCRIPTION:Find more information at http://www.cityofelkhorn.org/CityServices/ParksAndRec/OverviewPAndR.asp
X-ALT-DESC;FMTTYPE=text/html:Find more information at <a href="http://www.cityofelkhorn.org/CityServices/ParksAndRec/OverviewPAndR.asp">http://www.cityofelkhorn.org/CityServices/ParksAndRec/OverviewPAndR.asp</a>
LOCATION:200 Devendorf St Elkhorn\, WI 53121
UID:e.2059.4781
SEQUENCE:3
DTSTAMP:20260423T074221Z
URL:https://business.elkhornchamber.com/events/details/ballroom-dancing-date-night-4781
END:VEVENT

END:VCALENDAR
