BEGIN:VCALENDAR
VERSION:2.0
PRODID:-//ChamberMaster//Event Calendar 2.0//EN
METHOD:PUBLISH
X-PUBLISHED-TTL:P3D
REFRESH-INTERVAL:P3D
CALSCALE:GREGORIAN
BEGIN:VEVENT
DTSTART:20140913T180000Z
DTEND:20140913T220000Z
X-MICROSOFT-CDO-ALLDAYEVENT:FALSE
SUMMARY:Back to School Block Party
DESCRIPTION:Come by Emmanuel Baptist Church for a free block party. There will be volleyball\, soccer\, crafts\, obstacle course\, face painting and more. There will also be free food including cotton candy\, snow cones and drinks. Car seat inspections will be available provided by the Walworth County Sheriff's Dept.\, as well as fingerpainting for kids provided by CrimeStoppers.
X-ALT-DESC;FMTTYPE=text/html:Come by Emmanuel Baptist Church for a free block party. There will be volleyball\, soccer\, crafts\, obstacle course\, face painting and more. There will also be free food including cotton candy\, snow cones and drinks. Car seat inspections will be available provided by the Walworth County Sheriff&#39\;s Dept.\, as well as fingerpainting for kids provided by CrimeStoppers.
LOCATION:Emmanuel Baptist Church 920 County Hwy H\, Elkhorn
UID:e.2059.287
SEQUENCE:3
DTSTAMP:20260425T121914Z
URL:https://business.elkhornchamber.com/events/details/back-to-school-block-party-09-13-2014-287
END:VEVENT

END:VCALENDAR
