BEGIN:VCALENDAR
VERSION:2.0
PRODID:-//ChamberMaster//Event Calendar 2.0//EN
METHOD:PUBLISH
X-PUBLISHED-TTL:P3D
REFRESH-INTERVAL:P3D
CALSCALE:GREGORIAN
BEGIN:VEVENT
DTSTART:20180509T233000Z
DTEND:20180510T010000Z
X-MICROSOFT-CDO-ALLDAYEVENT:FALSE
SUMMARY:Aztalan: Mysteries of an Ancient Indian Town
DESCRIPTION:May is Wisconsin Historic Preservation and Archaeology month. Come learn about one of Wisconsin's greatest archeological finds with author Robert Birmingham. His book will be available for purchase here tonight as well.
X-ALT-DESC;FMTTYPE=text/html:<span style="color:rgb(0\, 0\, 0)\; font-family:arial\; font-size:12px">May is Wisconsin Historic Preservation and Archaeology month. Come learn about one of Wisconsin&rsquo\;s greatest archeological finds with author Robert Birmingham. His book will be available for purchase here tonight as well.</span>
LOCATION:Matheson Memorial Library
UID:e.2059.8770
SEQUENCE:3
DTSTAMP:20260422T091415Z
URL:https://business.elkhornchamber.com/events/details/aztalan-mysteries-of-an-ancient-indian-town-8770
END:VEVENT

END:VCALENDAR
