BEGIN:VCALENDAR
VERSION:2.0
PRODID:-//ChamberMaster//Event Calendar 2.0//EN
METHOD:PUBLISH
X-PUBLISHED-TTL:P3D
REFRESH-INTERVAL:P3D
CALSCALE:GREGORIAN
BEGIN:VEVENT
DTSTART:20190621T200000Z
DTEND:20190621T220000Z
X-MICROSOFT-CDO-ALLDAYEVENT:FALSE
SUMMARY:Author Visit: Danielle Lincoln Hanna
DESCRIPTION:The Friends of the Matheson Memorial Library are excited to be hosting Danielle Lincoln Hanna\, author of the Mailboat suspense series\, The End of the Pier (book 1)\, The Silver Helm (book 2)\, and The Captain's Tale (book 3). Ms. Hanna will be reading excerpts from the books and copies will be available for purchase and author signing. Come meet the writer of this exciting mystery series whose setting is in our beautiful Walworth County Lake Geneva area!\n \n\n \n\n \n\n \n\n.
X-ALT-DESC;FMTTYPE=text/html:<p style="text-align:center">The Friends of the Matheson Memorial Library are excited to be hosting Danielle Lincoln Hanna\, author of the Mailboat suspense series\,&nbsp\;<em>The End of the Pier (book 1)\, The Silver Helm (book 2)\, and The Captain&#39\;s Tale (book 3).&nbsp\;</em>Ms. Hanna will be reading excerpts from the books and copies will be available for purchase and author signing. Come meet the writer of this exciting mystery series whose setting is in our beautiful Walworth County Lake Geneva area!</p>\n&nbsp\;\n\n<p>&nbsp\;</p>\n\n<div>&nbsp\;</div>\n\n<p style="text-align:center">&nbsp\;</p>\n\n<p style="text-align:center">.&nbsp\;</p>\n
LOCATION:Matheson Memorial Library
UID:e.2059.10903
SEQUENCE:3
DTSTAMP:20260421T032601Z
URL:https://business.elkhornchamber.com/events/details/author-visit-danielle-lincoln-hanna-10903
END:VEVENT

END:VCALENDAR
