BEGIN:VCALENDAR
VERSION:2.0
PRODID:-//ChamberMaster//Event Calendar 2.0//EN
METHOD:PUBLISH
X-PUBLISHED-TTL:P3D
REFRESH-INTERVAL:P3D
CALSCALE:GREGORIAN
BEGIN:VEVENT
DTSTART:20180828T000000Z
DTEND:20180828T000000Z
X-MICROSOFT-CDO-ALLDAYEVENT:FALSE
SUMMARY:Auditions for Do Black Patent Leather Shoes Really Reflect Up?
DESCRIPTION:Lakeland Players announces Auditions for the hit Broadway Musical comedy. "Do Black Patent Leather Shoes Really Reflect Up?" On Aug. 27 & 28 @ 7:00pm at the Historic Sprague Theater\, Downtown Elkhorn. Bring music (accompanist provided) and Bring Conflicts.\n\nInfo. 262-248-7242 or 262-728-5578
X-ALT-DESC;FMTTYPE=text/html:<div class="gmail_default" style="font-size: large\;"><font face="comic sans ms" size="4">Lakeland Players announces Auditions for the hit Broadway Musical comedy. &quot\;Do Black Patent Leather Shoes Really Reflect Up?&quot\; On Aug. 27 &amp\; 28 @ 7:00pm at the Historic Sprague Theater\, Downtown Elkhorn. Bring music (accompanist provided) and Bring Conflicts.</font></div>\n\n<div class="gmail_default" style="font-size: large\;"><font face="comic sans ms" size="4">Info. 262-248-7242 or 262-728-5578</font></div>\n
LOCATION:Historic Sprague Theater\, Downtown Elkhorn.
UID:e.2059.9443
SEQUENCE:3
DTSTAMP:20260422T040032Z
URL:https://business.elkhornchamber.com/events/details/auditions-for-do-black-patent-leather-shoes-really-reflect-up-9443
END:VEVENT

END:VCALENDAR
