BEGIN:VCALENDAR
VERSION:2.0
PRODID:-//ChamberMaster//Event Calendar 2.0//EN
METHOD:PUBLISH
X-PUBLISHED-TTL:P3D
REFRESH-INTERVAL:P3D
CALSCALE:GREGORIAN
BEGIN:VEVENT
DTSTART:20160820T140000Z
DTEND:20160820T170000Z
X-MICROSOFT-CDO-ALLDAYEVENT:FALSE
SUMMARY:Atrium Senior Living of Sherwood Lodge OPEN HOUSE
DESCRIPTION:Please join us as we open our doors and invite the community to see\, first hand\, the amazing amenities and services we offer our residents!
X-ALT-DESC;FMTTYPE=text/html:Please join us as we open our doors and invite the community to see\, first hand\, the amazing amenities and services we offer our residents!
LOCATION:Atrium Senior Living of Williams Bay at Sherwood Lodge 116 Cherry St. Williams Bay\, WI 53191
UID:e.2059.3472
SEQUENCE:3
DTSTAMP:20260423T205613Z
URL:https://business.elkhornchamber.com/events/details/atrium-senior-living-of-sherwood-lodge-open-house-08-20-2016-3472
END:VEVENT

END:VCALENDAR
