BEGIN:VCALENDAR
VERSION:2.0
PRODID:-//ChamberMaster//Event Calendar 2.0//EN
METHOD:PUBLISH
X-PUBLISHED-TTL:P3D
REFRESH-INTERVAL:P3D
CALSCALE:GREGORIAN
BEGIN:VEVENT
DTSTART:20190115T220000Z
DTEND:20190116T000000Z
X-MICROSOFT-CDO-ALLDAYEVENT:FALSE
SUMMARY:Art Workshop: Watercolor and Crayon Resist
DESCRIPTION:Do you love to be creative? Do you like to mess around with art?\n\nKids of all ages and abilities are invited to drop by the Storyroom between 4 and 6 PM on selected Tuesdays to try out an art technique and create a project.\n\n    January 15: Watercolor and crayon resist. Use two different art mediums to create one gorgeous effect.
X-ALT-DESC;FMTTYPE=text/html:<p style="text-align:center"><span style="background-color:transparent\; font-family:arial\; font-size:11pt">Do you love to be creative? Do you like to mess around with art?</span></p>\n\n<p style="text-align:center"><span style="background-color:transparent\; font-family:arial\; font-size:11pt">Kids of all ages and abilities are invited to drop by the Storyroom between 4 and 6 PM on selected Tuesdays to try out an art technique and create a project.</span></p>\n\n<p style="text-align:center"><span style="background-color:transparent\; font-family:arial\; font-size:11pt">&nbsp\;&nbsp\;&nbsp\;<strong>&nbsp\;</strong></span><strong><span style="background-color:transparent\; font-family:arial\; font-size:11pt">January 15: Watercolor and crayon resist. Use two different art mediums to create one gorgeous effect.</span></strong></p>\n\n<div>&nbsp\;</div>\n
LOCATION:Matheson Memorial Library
UID:e.2059.9723
SEQUENCE:3
DTSTAMP:20260421T222446Z
URL:https://business.elkhornchamber.com/events/details/art-workshop-watercolor-and-crayon-resist-9723
END:VEVENT

END:VCALENDAR
