BEGIN:VCALENDAR
VERSION:2.0
PRODID:-//ChamberMaster//Event Calendar 2.0//EN
METHOD:PUBLISH
X-PUBLISHED-TTL:P3D
REFRESH-INTERVAL:P3D
CALSCALE:GREGORIAN
BEGIN:VEVENT
DTSTART:20190226T220000Z
DTEND:20190227T000000Z
X-MICROSOFT-CDO-ALLDAYEVENT:FALSE
SUMMARY:Art Workshop: Dream Worlds
DESCRIPTION:Do you love to be creative? Do you like to mess around with art?\n\nKids of all ages and abilities are invited to drop by the Storyroom between 4 and 6 PM on selected Tuesdays to try out an art technique and create a project.\n\n    February 26: Dream Worlds\n\nUse photography and art to create an imaginative landscape. If you can dream it\, you can do it!
X-ALT-DESC;FMTTYPE=text/html:<p style="text-align:center"><span style="background-color:transparent\; font-family:arial\; font-size:11pt">Do you love to be creative? Do you like to mess around with art?</span></p>\n\n<p style="text-align:center"><span style="background-color:transparent\; font-family:arial\; font-size:11pt">Kids of all ages and abilities are invited to drop by the Storyroom between 4 and 6 PM on selected Tuesdays to try out an art technique and create a project.</span></p>\n\n<p style="text-align:center"><span style="background-color:transparent\; font-family:arial\; font-size:11pt">&nbsp\;&nbsp\;&nbsp\;<strong>&nbsp\;February 26: Dream Worlds</strong></span><br />\n<strong><span style="background-color:transparent\; font-family:arial\; font-size:11pt">Use photography and art to create an imaginative landscape. If you can dream it\, you can do it!</span></strong></p>\n
LOCATION:Matheson Memorial Library
UID:e.2059.10220
SEQUENCE:3
DTSTAMP:20260421T014101Z
URL:https://business.elkhornchamber.com/events/details/art-workshop-dream-worlds-10220
END:VEVENT

END:VCALENDAR
