BEGIN:VCALENDAR
VERSION:2.0
PRODID:-//ChamberMaster//Event Calendar 2.0//EN
METHOD:PUBLISH
X-PUBLISHED-TTL:P3D
REFRESH-INTERVAL:P3D
CALSCALE:GREGORIAN
BEGIN:VEVENT
DTSTART:20151015T230000Z
DTEND:20151015T230000Z
X-MICROSOFT-CDO-ALLDAYEVENT:FALSE
SUMMARY:Argentine WIne Dinner
DESCRIPTION:Argentinian malbecs and chardonnays are delectably paired with a regionally inspired five-course meal featuring seared sea scallops\, duck sliders and marinated bistro steak. Passed canapes and the first pour start at 6pm\; seating for dinner is at 6:30. Reservations required
X-ALT-DESC;FMTTYPE=text/html:Argentinian malbecs and chardonnays are delectably paired with a regionally inspired five-course meal featuring seared sea scallops\, duck sliders and marinated bistro steak. Passed canapes and the first pour start at 6pm\; seating for dinner is at 6:30. Reservations required
LOCATION:Hunt Club Steakhouse Geneva National Resort Lake Geneva\, WI
UID:e.2059.1742
SEQUENCE:3
DTSTAMP:20260424T141346Z
URL:https://business.elkhornchamber.com/events/details/argentine-wine-dinner-10-15-2015-1742
END:VEVENT

END:VCALENDAR
