BEGIN:VCALENDAR
VERSION:2.0
PRODID:-//ChamberMaster//Event Calendar 2.0//EN
METHOD:PUBLISH
X-PUBLISHED-TTL:P3D
REFRESH-INTERVAL:P3D
CALSCALE:GREGORIAN
BEGIN:VEVENT
DTSTART:20160117T200000Z
DTEND:20160117T200000Z
X-MICROSOFT-CDO-ALLDAYEVENT:FALSE
SUMMARY:Antique Toy Show
DESCRIPTION:Walworth County Historical Society kicks off on Wednesday\, Feb. 17th with an Antique Toy Show. Starting at 2pm\, everyone is invited to bring one or two treasures from their childhood or their ancestors that will rekindle many\, many memories for all in attendance.
X-ALT-DESC;FMTTYPE=text/html:Walworth County Historical Society kicks off on Wednesday\, Feb. 17th with an Antique Toy Show. Starting at 2pm\, everyone is invited to bring one or two treasures from their childhood or their ancestors that will rekindle many\, many memories for all in attendance.
LOCATION:Heritage Hall auditorium at the corner of E. Rockwell and S. Washington St (just a block south of the main business district in Elkhorn)
UID:e.2059.1879
SEQUENCE:3
DTSTAMP:20260424T080324Z
URL:https://business.elkhornchamber.com/events/details/antique-toy-show-01-17-2016-1879
END:VEVENT

END:VCALENDAR
