BEGIN:VCALENDAR
VERSION:2.0
PRODID:-//ChamberMaster//Event Calendar 2.0//EN
METHOD:PUBLISH
X-PUBLISHED-TTL:P3D
REFRESH-INTERVAL:P3D
CALSCALE:GREGORIAN
BEGIN:VEVENT
DTSTART:20140629T120000Z
DTEND:20140629T210000Z
X-MICROSOFT-CDO-ALLDAYEVENT:FALSE
SUMMARY:Antique Flea Market
DESCRIPTION:The Elkhorn Antique Flea Market is held four times a year at the Walworth County Fairgrounds. With over 500 vendors participating\, spectators come from all over looking for that special treasure. See what unique treasures you can find at the Antique Flea Market this year on May 18th\, June 29th\, August 10th and September 28th.
X-ALT-DESC;FMTTYPE=text/html:The Elkhorn Antique Flea Market is held four times a year at the Walworth County Fairgrounds. With over 500 vendors participating\, spectators come from all over looking for that special treasure. See what unique treasures you can find at the Antique Flea Market this year on May 18th\, June 29th\, August 10th and September 28th.
LOCATION:Walworth County Fairgrounds 411 E. Court St.\, Elkhorn
UID:e.2059.116
SEQUENCE:3
DTSTAMP:20260425T163538Z
URL:https://business.elkhornchamber.com/events/details/antique-flea-market-06-29-2014-116
END:VEVENT

END:VCALENDAR
