BEGIN:VCALENDAR
VERSION:2.0
PRODID:-//ChamberMaster//Event Calendar 2.0//EN
METHOD:PUBLISH
X-PUBLISHED-TTL:P3D
REFRESH-INTERVAL:P3D
CALSCALE:GREGORIAN
BEGIN:VEVENT
DTSTART:20140913T160000Z
DTEND:20140913T180000Z
X-MICROSOFT-CDO-ALLDAYEVENT:FALSE
SUMMARY:Antique Appraisals
DESCRIPTION:Barbara Eash\, MPTV Annual Appraisal Fair Coordinator and member of the Certified Appraisers Guild of America\, will host an antique appraisal program at Matheson Memorial Library. Registration is free but required and limited to the first 50. You may bring 2 items\, however no coins\, stamps or firearms. If you have larger items such as furniture\, bring photos.
X-ALT-DESC;FMTTYPE=text/html:Barbara Eash\, MPTV Annual Appraisal Fair Coordinator and member of the Certified Appraisers Guild of America\, will host an antique appraisal program at Matheson Memorial Library. Registration is free but required and limited to the first 50. You may bring 2 items\, however no coins\, stamps or firearms. If you have larger items such as furniture\, bring photos.
LOCATION:Matheson Memorial Library 101 N. Wisconsin St.\, Elkhorn
UID:e.2059.474
SEQUENCE:3
DTSTAMP:20260425T121800Z
URL:https://business.elkhornchamber.com/events/details/antique-appraisals-09-13-2014-474
END:VEVENT

END:VCALENDAR
