BEGIN:VCALENDAR
VERSION:2.0
PRODID:-//ChamberMaster//Event Calendar 2.0//EN
METHOD:PUBLISH
X-PUBLISHED-TTL:P3D
REFRESH-INTERVAL:P3D
CALSCALE:GREGORIAN
BEGIN:VEVENT
DTSTART:20171028T190000Z
DTEND:20171028T210000Z
X-MICROSOFT-CDO-ALLDAYEVENT:FALSE
SUMMARY:Annual Scare on the Square
DESCRIPTION:Come join the FREE Family Fun Fest for kids under 12 years old at Jackson Elementary School Cafeteria & Gym.\n\n4th Saturday in October! 2:00 - 4:00pm\n\nJoin the Elkhorn Chamber of Commerce\, the City of Elkhorn Recreation Department and Mercy Health System for an afternoon of frightful fun! Kids can enjoy a drawing booth\, scarecrow decorating\, a bounce house\, pumpkin decorating\, drinks & snacks\, as well as free givaways! Don't forget to come Dressed to Impress for our Costume Contest!\n\nCatagories for the Costume Contest are as follows:\n\n1-3 Years Old\n\n4-6 Years Old\n\n7-9 Years Old\n\n10-12 Years Old\n\nBEST FAMILY GROUP\n\nPrizes for the Top Winner of all Age Groups!
X-ALT-DESC;FMTTYPE=text/html:<span class="_4n-j _fbReactionComponent__eventDetailsContentTags fsl" data-testid="event-permalink-details">Come join the FREE Family Fun Fest for kids under 12 years old at Jackson Elementary School Cafeteria &amp\; Gym.<br />\n4th Saturday in October! 2:00 - 4:00pm<br />\nJoin the Elkhorn Chamber of Commerce\, the City of Elkhorn Recreation Department and Mercy Health System for an afternoon of frightful fun! Kids can enjoy a drawing booth\, scarecrow decorating\, a bounce house\, pumpkin decorating\, drinks &amp\; snacks\, as well as free givaways! Don&#39\;t forget to come Dressed to Impress for our Costume Contest!<br />\nCatagories for the Costume Contest are as follows:<br />\n1-3 Years Old<br />\n4-6 Years Old<br />\n7-9 Years Old<br />\n10-12 Years Old<br />\nBEST FAMILY GROUP<br />\nPrizes for the Top Winner of all Age Groups!</span>
LOCATION:Jackson Elementary School 13 N. Jackson Street Elkhorn\, WI
UID:e.2059.242
SEQUENCE:3
DTSTAMP:20260422T200858Z
URL:https://business.elkhornchamber.com/events/details/annual-scare-on-the-square-10-28-2017-242
END:VEVENT

END:VCALENDAR
