BEGIN:VCALENDAR
VERSION:2.0
PRODID:-//ChamberMaster//Event Calendar 2.0//EN
METHOD:PUBLISH
X-PUBLISHED-TTL:P3D
REFRESH-INTERVAL:P3D
CALSCALE:GREGORIAN
BEGIN:VEVENT
DTSTART:20181027T190000Z
DTEND:20181027T210000Z
X-MICROSOFT-CDO-ALLDAYEVENT:FALSE
SUMMARY:Annual Scare on the Square
DESCRIPTION:Fall fun for the whole family with kids' activities\, bounce houses\, costume contest and more. Hosted by the Elkhorn Chamber\, Elkhorn Recreation Department and Mercyhealth System at Jackson Elementary School in Elkhorn.
X-ALT-DESC;FMTTYPE=text/html:Fall fun for the whole family with kids&#39\; activities\, bounce houses\, costume contest and more. Hosted by the Elkhorn Chamber\,&nbsp\;Elkhorn Recreation Department and Mercyhealth System at Jackson Elementary School in Elkhorn.
LOCATION:Jackson Elementary School 13 N Jackson St\, Elkhorn\, WI 53121
UID:e.2059.243
SEQUENCE:3
DTSTAMP:20260422T002252Z
URL:https://business.elkhornchamber.com/events/details/annual-scare-on-the-square-10-27-2018-243
END:VEVENT

END:VCALENDAR
