BEGIN:VCALENDAR
VERSION:2.0
PRODID:-//ChamberMaster//Event Calendar 2.0//EN
METHOD:PUBLISH
X-PUBLISHED-TTL:P3D
REFRESH-INTERVAL:P3D
CALSCALE:GREGORIAN
BEGIN:VEVENT
DTSTART:20141025T200000Z
DTEND:20141025T230000Z
X-MICROSOFT-CDO-ALLDAYEVENT:FALSE
SUMMARY:Annual Scare on the Square
DESCRIPTION:Fall fun for the whole family with kids' activities\, storytelling\, costume contest and more. Hosted by the Elkhorn Chamber\, Elkhorn Recreation Department and Mercy Health System at Veterans Park in downtown Elkhorn.
X-ALT-DESC;FMTTYPE=text/html:Fall fun for the whole family with kids&#39\; activities\, storytelling\, costume contest and more. Hosted by the Elkhorn Chamber\,&nbsp\;Elkhorn Recreation Department and Mercy Health System at Veterans Park in downtown Elkhorn.
LOCATION:Veterans Park 100 W. Walworth St. Downtown Elkhorn
UID:e.2059.226
SEQUENCE:3
DTSTAMP:20260425T102138Z
URL:https://business.elkhornchamber.com/events/details/annual-scare-on-the-square-10-25-2014-226
END:VEVENT

END:VCALENDAR
