BEGIN:VCALENDAR
VERSION:2.0
PRODID:-//ChamberMaster//Event Calendar 2.0//EN
METHOD:PUBLISH
X-PUBLISHED-TTL:P3D
REFRESH-INTERVAL:P3D
CALSCALE:GREGORIAN
BEGIN:VEVENT
DTSTART:20180502T160000Z
DTEND:20180502T180000Z
X-MICROSOFT-CDO-ALLDAYEVENT:FALSE
SUMMARY:Annual Salad Luncheon
DESCRIPTION:Annual Salad Luncheon at First Congregational UCC Church Wednesday\, May 2nd from 11:00 am until 1:00pm.
X-ALT-DESC;FMTTYPE=text/html:Annual Salad Luncheon at First Congregational UCC Church Wednesday\, May 2nd from 11:00 am until 1:00pm.
LOCATION:First Congregational UCC Church 76 S. Wisconsin Street Elkhorn\, WI 53121
UID:e.2059.7612
SEQUENCE:3
DTSTAMP:20260422T102519Z
URL:https://business.elkhornchamber.com/events/details/annual-salad-luncheon-7612
END:VEVENT

END:VCALENDAR
