BEGIN:VCALENDAR
VERSION:2.0
PRODID:-//ChamberMaster//Event Calendar 2.0//EN
METHOD:PUBLISH
X-PUBLISHED-TTL:P3D
REFRESH-INTERVAL:P3D
CALSCALE:GREGORIAN
BEGIN:VEVENT
DTSTART:20160805T130000Z
DTEND:20160806T210000Z
X-MICROSOFT-CDO-ALLDAYEVENT:FALSE
SUMMARY:Annual Rummage Sale
DESCRIPTION:Join us for our Annual Rummage Sale at our church location in downtown Elkhorn. Something for Everyone~
X-ALT-DESC;FMTTYPE=text/html:Join us for our Annual Rummage Sale at our church location in downtown Elkhorn. Something for Everyone~
LOCATION:First Congregational UCC Church 76 S. Wisconsin St Elkhorn\, WI 53121
UID:e.2059.3434
SEQUENCE:3
DTSTAMP:20260423T204803Z
URL:https://business.elkhornchamber.com/events/details/annual-rummage-sale-08-05-2016-3434
END:VEVENT

END:VCALENDAR
