BEGIN:VCALENDAR
VERSION:2.0
PRODID:-//ChamberMaster//Event Calendar 2.0//EN
METHOD:PUBLISH
X-PUBLISHED-TTL:P3D
REFRESH-INTERVAL:P3D
CALSCALE:GREGORIAN
BEGIN:VEVENT
DTSTART:20151205T143000Z
DTEND:20151205T170000Z
X-MICROSOFT-CDO-ALLDAYEVENT:FALSE
SUMMARY:Annual Reindeer Run
DESCRIPTION:Start & finish at Sunset Park on a timed flat course. Event will be held regardless of weather conditions. Sorry\, no refunds. \n\nReindeer Run/Walk: We're getting ugly! Wear your ugliest holiday sweater for your chance to win prizes! Our route starts at beautiful Sunset Park\, winds through the charming city streets\, and ends back at Sunset Park for awards in categories of fastest finishers and ugliest & best holiday dressed! Dress your dog for more chances to win prizes! Refreshments\, music and a few "ugly" surprises!\n\nGrinch Sprint: Catch and "Cage the Grinch" in this 100 yard fun dash!\n\nEarly Packet Pick up: Race packets may be picked up starting Friday\, December 4th from 8:00am - 5:00pm in the Recreation Center at Sunset Park.\n\nAwards: The ugliest holiday sweaters and holiday spirit will receive a gift basket\, as well as best dressed team prizes! Must be presented to win. Top Three  M/F finishers in each age category receive medals\, fastest M/F overall will receive a giant wreath. Youth division fastest M/F will receive a trophy.\n\n\n\nSee www.ElkhornReindeerRun.com for more Information.
X-ALT-DESC;FMTTYPE=text/html:Start &amp\; finish at Sunset Park on a timed flat course. Event will be held regardless of weather conditions. Sorry\, no refunds.&nbsp\;<br />\nReindeer Run/Walk: We&#39\;re getting ugly! Wear your ugliest holiday sweater for your chance to win prizes! Our route starts at beautiful Sunset Park\, winds through the charming city streets\, and ends back at Sunset Park for awards in categories of fastest finishers and ugliest &amp\; best holiday dressed! Dress your dog for more chances to win prizes! Refreshments\, music and a few &quot\;ugly&quot\; surprises!<br />\nGrinch Sprint: Catch and &quot\;Cage the Grinch&quot\; in this 100 yard fun dash!<br />\nEarly Packet Pick up: Race packets may be picked up starting Friday\, December 4th from 8:00am - 5:00pm in the Recreation Center at Sunset Park.<br />\nAwards: The ugliest holiday sweaters and holiday spirit will receive a gift basket\, as well as best dressed team prizes! Must be presented to win. Top Three&nbsp\; M/F finishers in each age category receive medals\, fastest M/F overall will receive a giant wreath. Youth division fastest M/F will receive a trophy.<br />\n<br />\nSee www.ElkhornReindeerRun.com for more Information.
LOCATION:Sunset Park 200 Devendorf St.\, Elkhorn
UID:e.2059.190
SEQUENCE:3
DTSTAMP:20260424T094210Z
URL:https://business.elkhornchamber.com/events/details/annual-reindeer-run-12-05-2015-190
END:VEVENT

END:VCALENDAR
