BEGIN:VCALENDAR
VERSION:2.0
PRODID:-//ChamberMaster//Event Calendar 2.0//EN
METHOD:PUBLISH
X-PUBLISHED-TTL:P3D
REFRESH-INTERVAL:P3D
CALSCALE:GREGORIAN
BEGIN:VEVENT
DTSTART:20171021T140000Z
DTEND:20171021T220000Z
X-MICROSOFT-CDO-ALLDAYEVENT:FALSE
SUMMARY:Annual Oktoberfest
DESCRIPTION:A growing favorite in the community\, the 12th Annual Elkhorn Oktoberfest will fill the town with fall fun Saturday\, October 21st from 9am-5pm. Walk around the downtown square to see over 100 crafters and vendors showcasing handcrafted items\, antiques\, produce and plants\, home party consultants and more. Head over to the north parking lot of the government center to see some beautiful classic cars during our 5th Annual Oktoberfest Car Show. The kids will have plenty to keep them occupied with games\, pumpkin decorating\, bounce house\, slides and more. Hungry? Grab a bite to eat from the many delicious food vendors or chili cook-off. There?s even a little something for the adults too when they step inside Pocket Park for the Wine & Beer Tasting tent. Enjoy all the different live entertainment acts from local groups and music from live bands. Bring the family down for our biggest event of the year!
X-ALT-DESC;FMTTYPE=text/html:A growing favorite in the community\, the 12th Annual Elkhorn Oktoberfest will fill the town with fall fun Saturday\, October 21st from 9am-5pm. Walk around the downtown square to see over 100 crafters and vendors showcasing handcrafted items\, antiques\, produce and plants\, home party consultants and more. Head over to the north parking lot of the government center to see some beautiful classic cars during our 5th Annual Oktoberfest Car Show. The kids will have plenty to keep them occupied with games\, pumpkin decorating\, bounce house\, slides and more. Hungry? Grab a bite to eat from the many delicious food vendors or chili cook-off. There?s even a little something for the adults too when they step inside Pocket Park for the Wine &amp\; Beer Tasting tent. Enjoy all the different live entertainment acts from local groups and music from live bands. Bring the family down for our biggest event of the year!
LOCATION:Veterans & Pocket Parks 100 W. Walworth Street Downtown Elkhorn
UID:e.2059.16
SEQUENCE:3
DTSTAMP:20260422T200940Z
URL:https://business.elkhornchamber.com/events/details/annual-oktoberfest-10-21-2017-16
END:VEVENT

END:VCALENDAR
