BEGIN:VCALENDAR
VERSION:2.0
PRODID:-//ChamberMaster//Event Calendar 2.0//EN
METHOD:PUBLISH
X-PUBLISHED-TTL:P3D
REFRESH-INTERVAL:P3D
CALSCALE:GREGORIAN
BEGIN:VEVENT
DTSTART:20161203T160000Z
DTEND:20161203T160000Z
X-MICROSOFT-CDO-ALLDAYEVENT:FALSE
SUMMARY:Annual Holiday Cookie Walk
DESCRIPTION:Stock up on an assortment of holiday cookies at First Congregational Church's Annual Holiday Cookie Sale! 10am until Sold Out!
X-ALT-DESC;FMTTYPE=text/html:Stock up on an assortment of holiday cookies at First Congregational Church&#39\;s Annual Holiday Cookie Sale! 10am until Sold Out!
LOCATION:First Congregational Church 76 S. Wisconsin St.\, Elkhorn
UID:e.2059.215
SEQUENCE:3
DTSTAMP:20260423T135318Z
URL:https://business.elkhornchamber.com/events/details/annual-holiday-cookie-walk-12-03-2016-215
END:VEVENT

END:VCALENDAR
