BEGIN:VCALENDAR
VERSION:2.0
PRODID:-//ChamberMaster//Event Calendar 2.0//EN
METHOD:PUBLISH
X-PUBLISHED-TTL:P3D
REFRESH-INTERVAL:P3D
CALSCALE:GREGORIAN
BEGIN:VEVENT
DTSTART:20181110T160000Z
DTEND:20181110T200000Z
X-MICROSOFT-CDO-ALLDAYEVENT:FALSE
SUMMARY:Annual Games Day at the Library
DESCRIPTION:Throw some Dice\, defeat a monster\, and learn some new games at the Matheson Memorial Library's Annual Games Day! \n\nWe'll have video games on our big screen\, board games at our tables\, a real-life Pac Man maze\, and a Dungeons & Dragons demo!\n\nWhile you're playing\, you can refuel with free snacks and soda.
X-ALT-DESC;FMTTYPE=text/html:<p style="margin-left:41.75pt\; text-align:center"><strong>Throw some Dice\, defeat a monster\, and learn some new games at the Matheson Memorial Library&rsquo\;s Annual Games Day!&nbsp\;</strong></p>\n\n<p style="margin-left:41.75pt\; text-align:center">We&rsquo\;ll have video games on our big screen\, board games at our tables\, a real-life Pac Man maze\, and a Dungeons &amp\; Dragons demo!</p>\n\n<p style="margin-left:41.75pt\; text-align:center">While you&rsquo\;re playing\, you can refuel with free snacks and soda.&nbsp\;</p>\n
LOCATION:Matheson Memorial Library
UID:e.2059.9559
SEQUENCE:3
DTSTAMP:20260421T223433Z
URL:https://business.elkhornchamber.com/events/details/annual-games-day-at-the-library-9559
END:VEVENT

END:VCALENDAR
