BEGIN:VCALENDAR
VERSION:2.0
PRODID:-//ChamberMaster//Event Calendar 2.0//EN
METHOD:PUBLISH
X-PUBLISHED-TTL:P3D
REFRESH-INTERVAL:P3D
CALSCALE:GREGORIAN
BEGIN:VEVENT
DTSTART:20161022T190000Z
DTEND:20161022T210000Z
X-MICROSOFT-CDO-ALLDAYEVENT:FALSE
SUMMARY:Annual Elkhorn Scare on the Square
DESCRIPTION:Join MercyHealth System\, the Elkhorn Chamber of Commerce and the City of Elkhorn Recreation Department for an afternoon of frightful fun for the entire family. Kids can enjoy an obstacle course\, drawing booth\, costume contest\, scarecrow decorating\, giveaways and much more!\n\nIn case of inclement weather\, the event will move to the Community Center (at the library)\, 101 N. Wisconsin St.
X-ALT-DESC;FMTTYPE=text/html:Join MercyHealth System\, the Elkhorn Chamber of Commerce and the City of Elkhorn Recreation Department for an afternoon of frightful fun for the entire family. Kids can enjoy an obstacle course\, drawing booth\, costume contest\, scarecrow decorating\, giveaways and much more!<br />\nIn case of inclement weather\, the event will move to the Community Center (at the library)\, 101 N. Wisconsin St.
LOCATION:Veterans Park 100 W. Walworth St. Downtown Square\, Elkhorn
UID:e.2059.241
SEQUENCE:3
DTSTAMP:20260423T185338Z
URL:https://business.elkhornchamber.com/events/details/annual-elkhorn-scare-on-the-square-241
END:VEVENT

END:VCALENDAR
