BEGIN:VCALENDAR
VERSION:2.0
PRODID:-//ChamberMaster//Event Calendar 2.0//EN
METHOD:PUBLISH
X-PUBLISHED-TTL:P3D
REFRESH-INTERVAL:P3D
CALSCALE:GREGORIAN
BEGIN:VEVENT
DTSTART:20191207T193000Z
DTEND:20191207T203000Z
X-MICROSOFT-CDO-ALLDAYEVENT:FALSE
SUMMARY:Annual Christmas Card Town Parade
DESCRIPTION:Bundle up the family and grab a spot downtown to watch the Annual Christmas Card Town Parade. Many line up to see the Christmas decorated floats\, novelty acts\, music\, animals\, and of course\, Santa and Mrs. Claus.
X-ALT-DESC;FMTTYPE=text/html:Bundle up the family and grab a spot downtown to watch the Annual Christmas Card Town Parade. Many line up to see the Christmas decorated floats\, novelty acts\, music\, animals\, and of course\, Santa and Mrs. Claus.
LOCATION:Downtown Elkhorn
UID:e.2059.167
SEQUENCE:3
DTSTAMP:20260419T234627Z
URL:https://business.elkhornchamber.com/events/details/annual-christmas-card-town-parade-12-07-2019-167
END:VEVENT

END:VCALENDAR
