BEGIN:VCALENDAR
VERSION:2.0
PRODID:-//ChamberMaster//Event Calendar 2.0//EN
METHOD:PUBLISH
X-PUBLISHED-TTL:P3D
REFRESH-INTERVAL:P3D
CALSCALE:GREGORIAN
BEGIN:VEVENT
DTSTART:20151205T193000Z
DTEND:20151205T203000Z
X-MICROSOFT-CDO-ALLDAYEVENT:FALSE
SUMMARY:Annual Christmas Card Town Parade
DESCRIPTION:Bundle up the family and grab a spot downtown to watch the 34th Annual Christmas Card Town Parade. Many line up to see the Christmas decorated floats\, novelty acts\, music\, animals\, and of course\, Santa and Mrs. Claus.
X-ALT-DESC;FMTTYPE=text/html:Bundle up the family and grab a spot downtown to watch the 34th Annual Christmas Card Town Parade. Many line up to see the Christmas decorated floats\, novelty acts\, music\, animals\, and of course\, Santa and Mrs. Claus.
LOCATION:Downtown Elkhorn
UID:e.2059.163
SEQUENCE:3
DTSTAMP:20260424T094756Z
URL:https://business.elkhornchamber.com/events/details/annual-christmas-card-town-parade-12-05-2015-163
END:VEVENT

END:VCALENDAR
