BEGIN:VCALENDAR
VERSION:2.0
PRODID:-//ChamberMaster//Event Calendar 2.0//EN
METHOD:PUBLISH
X-PUBLISHED-TTL:P3D
REFRESH-INTERVAL:P3D
CALSCALE:GREGORIAN
BEGIN:VEVENT
DTSTART:20161203T193000Z
DTEND:20161203T210000Z
X-MICROSOFT-CDO-ALLDAYEVENT:FALSE
SUMMARY:Annual Christmas Card Town Parade
DESCRIPTION:Bundle up the family and grab a spot downtown to watch the 35rd Annual Christmas Card Town Parade. Many line up to see the Christmas decorated floats\, novelty acts\, music\, animals\, and of course\, Santa and Mrs. Claus.
X-ALT-DESC;FMTTYPE=text/html:Bundle up the family and grab a spot downtown to watch the 35rd Annual Christmas Card Town Parade. Many line up to see the Christmas decorated floats\, novelty acts\, music\, animals\, and of course\, Santa and Mrs. Claus.
LOCATION:Downtown Elkhorn
UID:e.2059.164
SEQUENCE:3
DTSTAMP:20260423T141003Z
URL:https://business.elkhornchamber.com/events/details/annual-christmas-card-town-parade-12-03-2016-164
END:VEVENT

END:VCALENDAR
